<?xml version="1.0"?>
<Capabilities xmlns="http://www.opengis.net/wmts/1.0" xmlns:ows="http://www.opengis.net/ows/1.1" xmlns:xlink="http://www.w3.org/1999/xlink" xmlns:xsi="http://www.w3.org/2001/XMLSchema-instance" xmlns:gml="http://www.opengis.net/gml" xsi:schemaLocation="http://www.opengis.net/wmts/1.0 http://schemas.opengis.net/wmts/1.0/wmtsGetCapabilities_response.xsd" version="1.0.0">
  <ows:ServiceIdentification>
    <ows:Title>EyeVi Orto WMS Proxy</ows:Title>
    <ows:Abstract></ows:Abstract>
    <ows:ServiceType>OGC WMTS</ows:ServiceType>
    <ows:ServiceTypeVersion>1.0.0</ows:ServiceTypeVersion>
    <ows:Fees>none</ows:Fees>
    <ows:AccessConstraints>none</ows:AccessConstraints>
  </ows:ServiceIdentification>
  <Contents>
    <Layer>
      <ows:Title>Eyevi Eesti kov2022 256x256 png/jpeg</ows:Title>
      <ows:Abstract></ows:Abstract>
      <ows:WGS84BoundingBox>
        <ows:LowerCorner>21.2786172229 56.764456376</ows:LowerCorner>
        <ows:UpperCorner>28.8924839621 60.4324894087</ows:UpperCorner>
      </ows:WGS84BoundingBox>
      <ows:Identifier>Eyevi_eesti_kov2022</ows:Identifier>
      <Style>
        <ows:Identifier>default</ows:Identifier>
      </Style>
      <Format>image/png</Format>
      <TileMatrixSetLink>
        <TileMatrixSet>eesti_grid</TileMatrixSet>
      </TileMatrixSetLink>
      <ResourceURL format="image/png" resourceType="tile"
        template="https://eyevi-test-map.teed.ee/estonia/wmts/Eyevi_eesti_kov2022/{TileMatrixSet}/{TileMatrix}/{TileCol}/{TileRow}.png"/>
    </Layer>
    <Layer>
      <ows:Title>Eyevi Eesti kov2021 256x256 png/jpeg</ows:Title>
      <ows:Abstract></ows:Abstract>
      <ows:WGS84BoundingBox>
        <ows:LowerCorner>21.2786172229 56.764456376</ows:LowerCorner>
        <ows:UpperCorner>28.8924839621 60.4324894087</ows:UpperCorner>
      </ows:WGS84BoundingBox>
      <ows:Identifier>Eyevi_eesti_kov2021</ows:Identifier>
      <Style>
        <ows:Identifier>default</ows:Identifier>
      </Style>
      <Format>image/png</Format>
      <TileMatrixSetLink>
        <TileMatrixSet>eesti_grid</TileMatrixSet>
      </TileMatrixSetLink>
      <ResourceURL format="image/png" resourceType="tile"
        template="https://eyevi-test-map.teed.ee/estonia/wmts/Eyevi_eesti_kov2021/{TileMatrixSet}/{TileMatrix}/{TileCol}/{TileRow}.png"/>
    </Layer>
    <Layer>
      <ows:Title>Eyevi Eesti kov2020 256x256 png/jpeg</ows:Title>
      <ows:Abstract></ows:Abstract>
      <ows:WGS84BoundingBox>
        <ows:LowerCorner>21.2786172229 56.764456376</ows:LowerCorner>
        <ows:UpperCorner>28.8924839621 60.4324894087</ows:UpperCorner>
      </ows:WGS84BoundingBox>
      <ows:Identifier>Eyevi_eesti_kov2020</ows:Identifier>
      <Style>
        <ows:Identifier>default</ows:Identifier>
      </Style>
      <Format>image/png</Format>
      <TileMatrixSetLink>
        <TileMatrixSet>eesti_grid</TileMatrixSet>
      </TileMatrixSetLink>
      <ResourceURL format="image/png" resourceType="tile"
        template="https://eyevi-test-map.teed.ee/estonia/wmts/Eyevi_eesti_kov2020/{TileMatrixSet}/{TileMatrix}/{TileCol}/{TileRow}.png"/>
    </Layer>
    <Layer>
      <ows:Title>Eyevi Eesti kov2018 256x256 png/jpeg</ows:Title>
      <ows:Abstract></ows:Abstract>
      <ows:WGS84BoundingBox>
        <ows:LowerCorner>21.2786172229 56.764456376</ows:LowerCorner>
        <ows:UpperCorner>28.8924839621 60.4324894087</ows:UpperCorner>
      </ows:WGS84BoundingBox>
      <ows:Identifier>Eyevi_eesti_kov2018</ows:Identifier>
      <Style>
        <ows:Identifier>default</ows:Identifier>
      </Style>
      <Format>image/png</Format>
      <TileMatrixSetLink>
        <TileMatrixSet>eesti_grid</TileMatrixSet>
      </TileMatrixSetLink>
      <ResourceURL format="image/png" resourceType="tile"
        template="https://eyevi-test-map.teed.ee/estonia/wmts/Eyevi_eesti_kov2018/{TileMatrixSet}/{TileMatrix}/{TileCol}/{TileRow}.png"/>
    </Layer>
    <Layer>
      <ows:Title>Eyevi Eesti 2019 256x256 png/jpeg</ows:Title>
      <ows:Abstract></ows:Abstract>
      <ows:WGS84BoundingBox>
        <ows:LowerCorner>21.2786172229 56.764456376</ows:LowerCorner>
        <ows:UpperCorner>28.8924839621 60.4324894087</ows:UpperCorner>
      </ows:WGS84BoundingBox>
      <ows:Identifier>Eyevi_eesti_2019</ows:Identifier>
      <Style>
        <ows:Identifier>default</ows:Identifier>
      </Style>
      <Format>image/png</Format>
      <TileMatrixSetLink>
        <TileMatrixSet>eesti_grid</TileMatrixSet>
      </TileMatrixSetLink>
      <ResourceURL format="image/png" resourceType="tile"
        template="https://eyevi-test-map.teed.ee/estonia/wmts/Eyevi_eesti_2019/{TileMatrixSet}/{TileMatrix}/{TileCol}/{TileRow}.png"/>
    </Layer>
    <Layer>
      <ows:Title>Eyevi Eesti 2020 256x256 png/jpeg</ows:Title>
      <ows:Abstract></ows:Abstract>
      <ows:WGS84BoundingBox>
        <ows:LowerCorner>21.2786172229 56.764456376</ows:LowerCorner>
        <ows:UpperCorner>28.8924839621 60.4324894087</ows:UpperCorner>
      </ows:WGS84BoundingBox>
      <ows:Identifier>Eyevi_eesti_2020</ows:Identifier>
      <Style>
        <ows:Identifier>default</ows:Identifier>
      </Style>
      <Format>image/png</Format>
      <TileMatrixSetLink>
        <TileMatrixSet>eesti_grid</TileMatrixSet>
      </TileMatrixSetLink>
      <ResourceURL format="image/png" resourceType="tile"
        template="https://eyevi-test-map.teed.ee/estonia/wmts/Eyevi_eesti_2020/{TileMatrixSet}/{TileMatrix}/{TileCol}/{TileRow}.png"/>
    </Layer>
    <Layer>
      <ows:Title>Eyevi Eesti 2021 256x256 png/jpeg</ows:Title>
      <ows:Abstract></ows:Abstract>
      <ows:WGS84BoundingBox>
        <ows:LowerCorner>21.2786172229 56.764456376</ows:LowerCorner>
        <ows:UpperCorner>28.8924839621 60.4324894087</ows:UpperCorner>
      </ows:WGS84BoundingBox>
      <ows:Identifier>Eyevi_eesti_2021</ows:Identifier>
      <Style>
        <ows:Identifier>default</ows:Identifier>
      </Style>
      <Format>image/png</Format>
      <TileMatrixSetLink>
        <TileMatrixSet>eesti_grid</TileMatrixSet>
      </TileMatrixSetLink>
      <ResourceURL format="image/png" resourceType="tile"
        template="https://eyevi-test-map.teed.ee/estonia/wmts/Eyevi_eesti_2021/{TileMatrixSet}/{TileMatrix}/{TileCol}/{TileRow}.png"/>
    </Layer>
    <Layer>
      <ows:Title>Eyevi Eesti 2022 256x256 png/jpeg</ows:Title>
      <ows:Abstract></ows:Abstract>
      <ows:WGS84BoundingBox>
        <ows:LowerCorner>21.2786172229 56.764456376</ows:LowerCorner>
        <ows:UpperCorner>28.8924839621 60.4324894087</ows:UpperCorner>
      </ows:WGS84BoundingBox>
      <ows:Identifier>Eyevi_eesti_2022</ows:Identifier>
      <Style>
        <ows:Identifier>default</ows:Identifier>
      </Style>
      <Format>image/png</Format>
      <TileMatrixSetLink>
        <TileMatrixSet>eesti_grid</TileMatrixSet>
      </TileMatrixSetLink>
      <ResourceURL format="image/png" resourceType="tile"
        template="https://eyevi-test-map.teed.ee/estonia/wmts/Eyevi_eesti_2022/{TileMatrixSet}/{TileMatrix}/{TileCol}/{TileRow}.png"/>
    </Layer>
    <Layer>
      <ows:Title>Eyevi Eesti 2023 256x256 png/jpeg</ows:Title>
      <ows:Abstract></ows:Abstract>
      <ows:WGS84BoundingBox>
        <ows:LowerCorner>21.2786172229 56.764456376</ows:LowerCorner>
        <ows:UpperCorner>28.8924839621 60.4324894087</ows:UpperCorner>
      </ows:WGS84BoundingBox>
      <ows:Identifier>Eyevi_eesti_2023</ows:Identifier>
      <Style>
        <ows:Identifier>default</ows:Identifier>
      </Style>
      <Format>image/png</Format>
      <TileMatrixSetLink>
        <TileMatrixSet>eesti_grid</TileMatrixSet>
      </TileMatrixSetLink>
      <ResourceURL format="image/png" resourceType="tile"
        template="https://eyevi-test-map.teed.ee/estonia/wmts/Eyevi_eesti_2023/{TileMatrixSet}/{TileMatrix}/{TileCol}/{TileRow}.png"/>
    </Layer>
    <Layer>
      <ows:Title>Eyevi Eesti 2024 256x256 png/jpeg</ows:Title>
      <ows:Abstract></ows:Abstract>
      <ows:WGS84BoundingBox>
        <ows:LowerCorner>21.2786172229 56.764456376</ows:LowerCorner>
        <ows:UpperCorner>28.8924839621 60.4324894087</ows:UpperCorner>
      </ows:WGS84BoundingBox>
      <ows:Identifier>Eyevi_eesti_2024</ows:Identifier>
      <Style>
        <ows:Identifier>default</ows:Identifier>
      </Style>
      <Format>image/png</Format>
      <TileMatrixSetLink>
        <TileMatrixSet>eesti_grid</TileMatrixSet>
      </TileMatrixSetLink>
      <ResourceURL format="image/png" resourceType="tile"
        template="https://eyevi-test-map.teed.ee/estonia/wmts/Eyevi_eesti_2024/{TileMatrixSet}/{TileMatrix}/{TileCol}/{TileRow}.png"/>
    </Layer>
    <Layer>
      <ows:Title>Eyevi Eesti 2025 256x256 png/jpeg</ows:Title>
      <ows:Abstract></ows:Abstract>
      <ows:WGS84BoundingBox>
        <ows:LowerCorner>21.2786172229 56.764456376</ows:LowerCorner>
        <ows:UpperCorner>28.8924839621 60.4324894087</ows:UpperCorner>
      </ows:WGS84BoundingBox>
      <ows:Identifier>Eyevi_eesti_2025</ows:Identifier>
      <Style>
        <ows:Identifier>default</ows:Identifier>
      </Style>
      <Format>image/png</Format>
      <TileMatrixSetLink>
        <TileMatrixSet>eesti_grid</TileMatrixSet>
      </TileMatrixSetLink>
      <ResourceURL format="image/png" resourceType="tile"
        template="https://eyevi-test-map.teed.ee/estonia/wmts/Eyevi_eesti_2025/{TileMatrixSet}/{TileMatrix}/{TileCol}/{TileRow}.png"/>
    </Layer>
    <Layer>
      <ows:Title>Eyevi Eesti 2026 256x256 png/jpeg</ows:Title>
      <ows:Abstract></ows:Abstract>
      <ows:WGS84BoundingBox>
        <ows:LowerCorner>21.2786172229 56.764456376</ows:LowerCorner>
        <ows:UpperCorner>28.8924839621 60.4324894087</ows:UpperCorner>
      </ows:WGS84BoundingBox>
      <ows:Identifier>Eyevi_eesti_2026</ows:Identifier>
      <Style>
        <ows:Identifier>default</ows:Identifier>
      </Style>
      <Format>image/png</Format>
      <TileMatrixSetLink>
        <TileMatrixSet>eesti_grid</TileMatrixSet>
      </TileMatrixSetLink>
      <ResourceURL format="image/png" resourceType="tile"
        template="https://eyevi-test-map.teed.ee/estonia/wmts/Eyevi_eesti_2026/{TileMatrixSet}/{TileMatrix}/{TileCol}/{TileRow}.png"/>
    </Layer>
    <Layer>
      <ows:Title>Eyevi Eesti kov 2024 256x256 png/jpeg</ows:Title>
      <ows:Abstract></ows:Abstract>
      <ows:WGS84BoundingBox>
        <ows:LowerCorner>21.2786172229 56.764456376</ows:LowerCorner>
        <ows:UpperCorner>28.8924839621 60.4324894087</ows:UpperCorner>
      </ows:WGS84BoundingBox>
      <ows:Identifier>Eyevi_eesti_kov_2024</ows:Identifier>
      <Style>
        <ows:Identifier>default</ows:Identifier>
      </Style>
      <Format>image/png</Format>
      <TileMatrixSetLink>
        <TileMatrixSet>eesti_grid</TileMatrixSet>
      </TileMatrixSetLink>
      <ResourceURL format="image/png" resourceType="tile"
        template="https://eyevi-test-map.teed.ee/estonia/wmts/Eyevi_eesti_kov_2024/{TileMatrixSet}/{TileMatrix}/{TileCol}/{TileRow}.png"/>
    </Layer>
    <Layer>
      <ows:Title>Eyevi Eesti digitest 2020 256x256 png/jpeg</ows:Title>
      <ows:Abstract></ows:Abstract>
      <ows:WGS84BoundingBox>
        <ows:LowerCorner>21.2786172229 56.764456376</ows:LowerCorner>
        <ows:UpperCorner>28.8924839621 60.4324894087</ows:UpperCorner>
      </ows:WGS84BoundingBox>
      <ows:Identifier>Eyevi_eesti_digitest2020</ows:Identifier>
      <Style>
        <ows:Identifier>default</ows:Identifier>
      </Style>
      <Format>image/png</Format>
      <TileMatrixSetLink>
        <TileMatrixSet>eesti_grid</TileMatrixSet>
      </TileMatrixSetLink>
      <ResourceURL format="image/png" resourceType="tile"
        template="https://eyevi-test-map.teed.ee/estonia/wmts/Eyevi_eesti_digitest2020/{TileMatrixSet}/{TileMatrix}/{TileCol}/{TileRow}.png"/>
    </Layer>
    <Layer>
      <ows:Title>Eyevi Eesti 256x256 png/jpeg</ows:Title>
      <ows:Abstract></ows:Abstract>
      <ows:WGS84BoundingBox>
        <ows:LowerCorner>9.0042639686 51.1107316517</ows:LowerCorner>
        <ows:UpperCorner>41.3017117249 65.5096739185</ows:UpperCorner>
      </ows:WGS84BoundingBox>
      <ows:Identifier>Eyevi_eesti</ows:Identifier>
      <Style>
        <ows:Identifier>default</ows:Identifier>
      </Style>
      <Format>image/png</Format>
      <TileMatrixSetLink>
        <TileMatrixSet>eesti_grid</TileMatrixSet>
      </TileMatrixSetLink>
      <ResourceURL format="image/png" resourceType="tile"
        template="https://eyevi-test-map.teed.ee/estonia/wmts/Eyevi_eesti/{TileMatrixSet}/{TileMatrix}/{TileCol}/{TileRow}.png"/>
    </Layer>
    <Layer>
      <ows:Title>Maa-ameti orto 256x256 jpeg</ows:Title>
      <ows:Abstract></ows:Abstract>
      <ows:WGS84BoundingBox>
        <ows:LowerCorner>9.0042639686 51.1107316517</ows:LowerCorner>
        <ows:UpperCorner>41.3017117249 65.5096739185</ows:UpperCorner>
      </ows:WGS84BoundingBox>
      <ows:Identifier>maaameti_orto</ows:Identifier>
      <Style>
        <ows:Identifier>default</ows:Identifier>
      </Style>
      <Format>image/jpeg</Format>
      <TileMatrixSetLink>
        <TileMatrixSet>eesti_grid</TileMatrixSet>
      </TileMatrixSetLink>
      <ResourceURL format="image/jpeg" resourceType="tile"
        template="https://eyevi-test-map.teed.ee/estonia/wmts/maaameti_orto/{TileMatrixSet}/{TileMatrix}/{TileCol}/{TileRow}.jpeg"/>
    </Layer>
    <Layer>
      <ows:Title>Eyevi Eesti 256x256 png</ows:Title>
      <ows:Abstract></ows:Abstract>
      <ows:WGS84BoundingBox>
        <ows:LowerCorner>21.2786172229 56.764456376</ows:LowerCorner>
        <ows:UpperCorner>28.8924839621 60.4324894087</ows:UpperCorner>
      </ows:WGS84BoundingBox>
      <ows:Identifier>Eyevi_eesti_parnu</ows:Identifier>
      <Style>
        <ows:Identifier>default</ows:Identifier>
      </Style>
      <Format>image/png</Format>
      <TileMatrixSetLink>
        <TileMatrixSet>eesti_grid</TileMatrixSet>
      </TileMatrixSetLink>
      <ResourceURL format="image/png" resourceType="tile"
        template="https://eyevi-test-map.teed.ee/estonia/wmts/Eyevi_eesti_parnu/{TileMatrixSet}/{TileMatrix}/{TileCol}/{TileRow}.png"/>
    </Layer>
    <TileMatrixSet>
      <ows:Identifier>eesti_grid</ows:Identifier>
      <ows:SupportedCRS>EPSG:3301</ows:SupportedCRS>
      <TileMatrix>
        <ows:Identifier>00</ows:Identifier>
        <ScaleDenominator>21428571.4286</ScaleDenominator>
        <TopLeftCorner>-211000.0 7268000.0</TopLeftCorner>
        <TileWidth>256</TileWidth>
        <TileHeight>256</TileHeight>
        <MatrixWidth>1</MatrixWidth>
        <MatrixHeight>1</MatrixHeight>
      </TileMatrix>
      <TileMatrix>
        <ows:Identifier>01</ows:Identifier>
        <ScaleDenominator>10714285.7143</ScaleDenominator>
        <TopLeftCorner>-211000.0 7268000.0</TopLeftCorner>
        <TileWidth>256</TileWidth>
        <TileHeight>256</TileHeight>
        <MatrixWidth>2</MatrixWidth>
        <MatrixHeight>2</MatrixHeight>
      </TileMatrix>
      <TileMatrix>
        <ows:Identifier>02</ows:Identifier>
        <ScaleDenominator>5357142.85714</ScaleDenominator>
        <TopLeftCorner>-211000.0 7268000.0</TopLeftCorner>
        <TileWidth>256</TileWidth>
        <TileHeight>256</TileHeight>
        <MatrixWidth>4</MatrixWidth>
        <MatrixHeight>4</MatrixHeight>
      </TileMatrix>
      <TileMatrix>
        <ows:Identifier>03</ows:Identifier>
        <ScaleDenominator>2678571.42857</ScaleDenominator>
        <TopLeftCorner>-211000.0 7268000.0</TopLeftCorner>
        <TileWidth>256</TileWidth>
        <TileHeight>256</TileHeight>
        <MatrixWidth>8</MatrixWidth>
        <MatrixHeight>8</MatrixHeight>
      </TileMatrix>
      <TileMatrix>
        <ows:Identifier>04</ows:Identifier>
        <ScaleDenominator>1339285.71429</ScaleDenominator>
        <TopLeftCorner>-211000.0 7268000.0</TopLeftCorner>
        <TileWidth>256</TileWidth>
        <TileHeight>256</TileHeight>
        <MatrixWidth>16</MatrixWidth>
        <MatrixHeight>16</MatrixHeight>
      </TileMatrix>
      <TileMatrix>
        <ows:Identifier>05</ows:Identifier>
        <ScaleDenominator>669642.857143</ScaleDenominator>
        <TopLeftCorner>-211000.0 7268000.0</TopLeftCorner>
        <TileWidth>256</TileWidth>
        <TileHeight>256</TileHeight>
        <MatrixWidth>32</MatrixWidth>
        <MatrixHeight>32</MatrixHeight>
      </TileMatrix>
      <TileMatrix>
        <ows:Identifier>06</ows:Identifier>
        <ScaleDenominator>334821.428571</ScaleDenominator>
        <TopLeftCorner>-211000.0 7268000.0</TopLeftCorner>
        <TileWidth>256</TileWidth>
        <TileHeight>256</TileHeight>
        <MatrixWidth>64</MatrixWidth>
        <MatrixHeight>64</MatrixHeight>
      </TileMatrix>
      <TileMatrix>
        <ows:Identifier>07</ows:Identifier>
        <ScaleDenominator>167410.714286</ScaleDenominator>
        <TopLeftCorner>-211000.0 7268000.0</TopLeftCorner>
        <TileWidth>256</TileWidth>
        <TileHeight>256</TileHeight>
        <MatrixWidth>128</MatrixWidth>
        <MatrixHeight>128</MatrixHeight>
      </TileMatrix>
      <TileMatrix>
        <ows:Identifier>08</ows:Identifier>
        <ScaleDenominator>83705.3571429</ScaleDenominator>
        <TopLeftCorner>-211000.0 7268000.0</TopLeftCorner>
        <TileWidth>256</TileWidth>
        <TileHeight>256</TileHeight>
        <MatrixWidth>256</MatrixWidth>
        <MatrixHeight>256</MatrixHeight>
      </TileMatrix>
      <TileMatrix>
        <ows:Identifier>09</ows:Identifier>
        <ScaleDenominator>41852.6785714</ScaleDenominator>
        <TopLeftCorner>-211000.0 7268000.0</TopLeftCorner>
        <TileWidth>256</TileWidth>
        <TileHeight>256</TileHeight>
        <MatrixWidth>512</MatrixWidth>
        <MatrixHeight>512</MatrixHeight>
      </TileMatrix>
      <TileMatrix>
        <ows:Identifier>10</ows:Identifier>
        <ScaleDenominator>20926.3392857</ScaleDenominator>
        <TopLeftCorner>-211000.0 7268000.0</TopLeftCorner>
        <TileWidth>256</TileWidth>
        <TileHeight>256</TileHeight>
        <MatrixWidth>1024</MatrixWidth>
        <MatrixHeight>1024</MatrixHeight>
      </TileMatrix>
      <TileMatrix>
        <ows:Identifier>11</ows:Identifier>
        <ScaleDenominator>10463.1696429</ScaleDenominator>
        <TopLeftCorner>-211000.0 7268000.0</TopLeftCorner>
        <TileWidth>256</TileWidth>
        <TileHeight>256</TileHeight>
        <MatrixWidth>2048</MatrixWidth>
        <MatrixHeight>2048</MatrixHeight>
      </TileMatrix>
      <TileMatrix>
        <ows:Identifier>12</ows:Identifier>
        <ScaleDenominator>5231.58482143</ScaleDenominator>
        <TopLeftCorner>-211000.0 7268000.0</TopLeftCorner>
        <TileWidth>256</TileWidth>
        <TileHeight>256</TileHeight>
        <MatrixWidth>4096</MatrixWidth>
        <MatrixHeight>4096</MatrixHeight>
      </TileMatrix>
      <TileMatrix>
        <ows:Identifier>13</ows:Identifier>
        <ScaleDenominator>2615.79241071</ScaleDenominator>
        <TopLeftCorner>-211000.0 7268000.0</TopLeftCorner>
        <TileWidth>256</TileWidth>
        <TileHeight>256</TileHeight>
        <MatrixWidth>8192</MatrixWidth>
        <MatrixHeight>8192</MatrixHeight>
      </TileMatrix>
      <TileMatrix>
        <ows:Identifier>14</ows:Identifier>
        <ScaleDenominator>1307.89620536</ScaleDenominator>
        <TopLeftCorner>-211000.0 7268000.0</TopLeftCorner>
        <TileWidth>256</TileWidth>
        <TileHeight>256</TileHeight>
        <MatrixWidth>16384</MatrixWidth>
        <MatrixHeight>16384</MatrixHeight>
      </TileMatrix>
      <TileMatrix>
        <ows:Identifier>15</ows:Identifier>
        <ScaleDenominator>653.948102679</ScaleDenominator>
        <TopLeftCorner>-211000.0 7268000.0</TopLeftCorner>
        <TileWidth>256</TileWidth>
        <TileHeight>256</TileHeight>
        <MatrixWidth>32768</MatrixWidth>
        <MatrixHeight>32768</MatrixHeight>
      </TileMatrix>
      <TileMatrix>
        <ows:Identifier>16</ows:Identifier>
        <ScaleDenominator>326.974051339</ScaleDenominator>
        <TopLeftCorner>-211000.0 7268000.0</TopLeftCorner>
        <TileWidth>256</TileWidth>
        <TileHeight>256</TileHeight>
        <MatrixWidth>65536</MatrixWidth>
        <MatrixHeight>65536</MatrixHeight>
      </TileMatrix>
      <TileMatrix>
        <ows:Identifier>17</ows:Identifier>
        <ScaleDenominator>163.48702567</ScaleDenominator>
        <TopLeftCorner>-211000.0 7268000.0</TopLeftCorner>
        <TileWidth>256</TileWidth>
        <TileHeight>256</TileHeight>
        <MatrixWidth>131072</MatrixWidth>
        <MatrixHeight>131072</MatrixHeight>
      </TileMatrix>
      <TileMatrix>
        <ows:Identifier>18</ows:Identifier>
        <ScaleDenominator>81.7435128348</ScaleDenominator>
        <TopLeftCorner>-211000.0 7268000.0</TopLeftCorner>
        <TileWidth>256</TileWidth>
        <TileHeight>256</TileHeight>
        <MatrixWidth>262144</MatrixWidth>
        <MatrixHeight>262144</MatrixHeight>
      </TileMatrix>
      <TileMatrix>
        <ows:Identifier>19</ows:Identifier>
        <ScaleDenominator>40.8717564174</ScaleDenominator>
        <TopLeftCorner>-211000.0 7268000.0</TopLeftCorner>
        <TileWidth>256</TileWidth>
        <TileHeight>256</TileHeight>
        <MatrixWidth>524288</MatrixWidth>
        <MatrixHeight>524288</MatrixHeight>
      </TileMatrix>
      <TileMatrix>
        <ows:Identifier>20</ows:Identifier>
        <ScaleDenominator>20.4358782087</ScaleDenominator>
        <TopLeftCorner>-211000.0 7268000.0</TopLeftCorner>
        <TileWidth>256</TileWidth>
        <TileHeight>256</TileHeight>
        <MatrixWidth>1048576</MatrixWidth>
        <MatrixHeight>1048576</MatrixHeight>
      </TileMatrix>
      <TileMatrix>
        <ows:Identifier>21</ows:Identifier>
        <ScaleDenominator>10.2179391044</ScaleDenominator>
        <TopLeftCorner>-211000.0 7268000.0</TopLeftCorner>
        <TileWidth>256</TileWidth>
        <TileHeight>256</TileHeight>
        <MatrixWidth>2097152</MatrixWidth>
        <MatrixHeight>2097152</MatrixHeight>
      </TileMatrix>
    </TileMatrixSet>
  </Contents>
  <ServiceMetadataURL xlink:href="https://eyevi-test-map.teed.ee/estonia/wmts/1.0.0/WMTSCapabilities.xml"/>
</Capabilities>